BEGIN:VCALENDAR
VERSION:2.0
PRODID:-//wp-events-plugin.com//7.2.3.1//EN
TZID:Europe/Berlin
X-WR-TIMEZONE:Europe/Berlin
BEGIN:VEVENT
UID:74@dev.lg-suedeichsfeld.de
DTSTART;TZID=Europe/Berlin;VALUE=DATE:20260612
DTEND;TZID=Europe/Berlin;VALUE=DATE:20260614
DTSTAMP:20260128T080153Z
URL:https://dev.lg-suedeichsfeld.de/events/20-landesschuetzentag-7-landesb
 oellertreffen/
SUMMARY:20. Landesschützentag & 7. Landesböllertreffen
DESCRIPTION:
CATEGORIES:Schützenverein Diedorf/Katharinenberg 1999 e.V.
LOCATION:Süd­eichs­feld­halle\, Brückenstraße 3\, Diedorf\, 99988\, D
 eutschland
X-APPLE-STRUCTURED-LOCATION;VALUE=URI;X-ADDRESS=Brückenstraße 3\, Diedorf
 \, 99988\, Deutschland;X-APPLE-RADIUS=100;X-TITLE=Süd­eichs­feld­halle
 :geo:0,0
END:VEVENT
BEGIN:VTIMEZONE
TZID:Europe/Berlin
X-LIC-LOCATION:Europe/Berlin
BEGIN:DAYLIGHT
DTSTART:20260329T030000
TZOFFSETFROM:+0100
TZOFFSETTO:+0200
TZNAME:CEST
END:DAYLIGHT
END:VTIMEZONE
END:VCALENDAR