BEGIN:VCALENDAR
VERSION:2.0
PRODID:-//wp-events-plugin.com//7.2.3.1//EN
TZID:Europe/Berlin
X-WR-TIMEZONE:Europe/Berlin
BEGIN:VEVENT
UID:34@dev.lg-suedeichsfeld.de
DTSTART;TZID=Europe/Berlin:20260630T170000
DTEND;TZID=Europe/Berlin:20260630T200000
DTSTAMP:20260126T132316Z
URL:https://dev.lg-suedeichsfeld.de/events/blutspende-3/
SUMMARY:Blutspende
DESCRIPTION:
CATEGORIES:Institut für Transfusionsmedizin Suhl gGmbh
LOCATION:Grundschule\, Brunkelstraße 1a\, Diedorf\, 99988\, Deutschland
X-APPLE-STRUCTURED-LOCATION;VALUE=URI;X-ADDRESS=Brunkelstraße 1a\, Diedorf
 \, 99988\, Deutschland;X-APPLE-RADIUS=100;X-TITLE=Grundschule:geo:0,0
END:VEVENT
BEGIN:VTIMEZONE
TZID:Europe/Berlin
X-LIC-LOCATION:Europe/Berlin
BEGIN:DAYLIGHT
DTSTART:20260329T030000
TZOFFSETFROM:+0100
TZOFFSETTO:+0200
TZNAME:CEST
END:DAYLIGHT
END:VTIMEZONE
END:VCALENDAR