BEGIN:VCALENDAR
VERSION:2.0
PRODID:-//wp-events-plugin.com//7.2.3.1//EN
TZID:Europe/Berlin
X-WR-TIMEZONE:Europe/Berlin
BEGIN:VEVENT
UID:16@dev.lg-suedeichsfeld.de
DTSTART;TZID=Europe/Berlin;VALUE=DATE:20260517
DTEND;TZID=Europe/Berlin;VALUE=DATE:20260518
DTSTAMP:20251017T093102Z
URL:https://dev.lg-suedeichsfeld.de/events/fruehschoppen/
SUMMARY:Frühschoppen
DESCRIPTION:10-jähriges Jubiläum Kirmesverein Wendehausen e.V.
CATEGORIES:Kirmesverein Wendehausen e.V.
LOCATION:Festplatz / Festhalle\, Festplatz / Festhalle\, Wendehausen\, 9998
 8\, Deutschland
X-APPLE-STRUCTURED-LOCATION;VALUE=URI;X-ADDRESS=Festplatz / Festhalle\, Wen
 dehausen\, 99988\, Deutschland;X-APPLE-RADIUS=100;X-TITLE=Festplatz / Fest
 halle:geo:0,0
END:VEVENT
BEGIN:VTIMEZONE
TZID:Europe/Berlin
X-LIC-LOCATION:Europe/Berlin
BEGIN:DAYLIGHT
DTSTART:20260329T030000
TZOFFSETFROM:+0100
TZOFFSETTO:+0200
TZNAME:CEST
END:DAYLIGHT
END:VTIMEZONE
END:VCALENDAR