BEGIN:VCALENDAR
VERSION:2.0
PRODID:-//wp-events-plugin.com//7.2.3.1//EN
TZID:Europe/Berlin
X-WR-TIMEZONE:Europe/Berlin
BEGIN:VEVENT
UID:71@dev.lg-suedeichsfeld.de
DTSTART;TZID=Europe/Berlin;VALUE=DATE:20261228
DTEND;TZID=Europe/Berlin;VALUE=DATE:20261229
DTSTAMP:20260127T123743Z
URL:https://dev.lg-suedeichsfeld.de/events/gluehweinwanderweg-2/
SUMMARY:Glühweinwanderweg
DESCRIPTION:
CATEGORIES:Heimatalm
LOCATION:Heimatalm\, Am Grenzblick\, Katharinenberg\, 99988\, Deutschland
X-APPLE-STRUCTURED-LOCATION;VALUE=URI;X-ADDRESS=Am Grenzblick\, Katharinenb
 erg\, 99988\, Deutschland;X-APPLE-RADIUS=100;X-TITLE=Heimatalm:geo:0,0
END:VEVENT
BEGIN:VTIMEZONE
TZID:Europe/Berlin
X-LIC-LOCATION:Europe/Berlin
BEGIN:STANDARD
DTSTART:20261025T020000
TZOFFSETFROM:+0200
TZOFFSETTO:+0100
TZNAME:CET
END:STANDARD
END:VTIMEZONE
END:VCALENDAR