BEGIN:VCALENDAR
VERSION:2.0
PRODID:-//wp-events-plugin.com//7.2.3.1//EN
TZID:Europe/Berlin
X-WR-TIMEZONE:Europe/Berlin
BEGIN:VEVENT
UID:66@dev.lg-suedeichsfeld.de
DTSTART;TZID=Europe/Berlin:20260911T180000
DTEND;TZID=Europe/Berlin:20260911T200000
DTSTAMP:20260127T100354Z
URL:https://dev.lg-suedeichsfeld.de/events/herbstbasar/
SUMMARY:Herbstbasar
DESCRIPTION:
CATEGORIES:Basar-Team Heyerode
LOCATION:Heyeröder Hafen\, Karlstraße 26\, Heyerode\, 99988\, Deutschland
X-APPLE-STRUCTURED-LOCATION;VALUE=URI;X-ADDRESS=Karlstraße 26\, Heyerode\,
  99988\, Deutschland;X-APPLE-RADIUS=100;X-TITLE=Heyeröder Hafen:geo:0,0
END:VEVENT
BEGIN:VTIMEZONE
TZID:Europe/Berlin
X-LIC-LOCATION:Europe/Berlin
BEGIN:DAYLIGHT
DTSTART:20260329T030000
TZOFFSETFROM:+0100
TZOFFSETTO:+0200
TZNAME:CEST
END:DAYLIGHT
END:VTIMEZONE
END:VCALENDAR