BEGIN:VCALENDAR
VERSION:2.0
PRODID:-//wp-events-plugin.com//7.2.3.1//EN
TZID:Europe/Berlin
X-WR-TIMEZONE:Europe/Berlin
BEGIN:VEVENT
UID:31@dev.lg-suedeichsfeld.de
DTSTART;TZID=Europe/Berlin;VALUE=DATE:20261205
DTEND;TZID=Europe/Berlin;VALUE=DATE:20261207
DTSTAMP:20260122T131131Z
URL:https://dev.lg-suedeichsfeld.de/events/heyeroeder-weihnachtsmarkt/
SUMMARY:Heyeröder Weihnachtsmarkt
DESCRIPTION:
CATEGORIES:Heyeröder Weihnachtsmarktverein e.V.
LOCATION:Freifläche Heyeröder Hafen\, Karlstraße\, Heyerode\, 99988\, De
 utschland
X-APPLE-STRUCTURED-LOCATION;VALUE=URI;X-ADDRESS=Karlstraße\, Heyerode\, 99
 988\, Deutschland;X-APPLE-RADIUS=100;X-TITLE=Freifläche Heyeröder Hafen:
 geo:0,0
END:VEVENT
BEGIN:VTIMEZONE
TZID:Europe/Berlin
X-LIC-LOCATION:Europe/Berlin
BEGIN:STANDARD
DTSTART:20261025T020000
TZOFFSETFROM:+0200
TZOFFSETTO:+0100
TZNAME:CET
END:STANDARD
END:VTIMEZONE
END:VCALENDAR