BEGIN:VCALENDAR
VERSION:2.0
PRODID:-//wp-events-plugin.com//7.2.3.1//EN
TZID:Europe/Berlin
X-WR-TIMEZONE:Europe/Berlin
BEGIN:VEVENT
UID:88@dev.lg-suedeichsfeld.de
DTSTART;TZID=Europe/Berlin;VALUE=DATE:20261023
DTEND;TZID=Europe/Berlin;VALUE=DATE:20261027
DTSTAMP:20260128T104959Z
URL:https://dev.lg-suedeichsfeld.de/events/kirmes-2026/
SUMMARY:Kirmes 2026
DESCRIPTION:
CATEGORIES:Kirmesverein Lengenfeld unterm Stein e.V.
LOCATION:Festplatz\, Hauptstraße 47\, Lengenfeld unterm Stein\, 99976\, De
 utschland
X-APPLE-STRUCTURED-LOCATION;VALUE=URI;X-ADDRESS=Hauptstraße 47\, Lengenfel
 d unterm Stein\, 99976\, Deutschland;X-APPLE-RADIUS=100;X-TITLE=Festplatz:
 geo:0,0
END:VEVENT
BEGIN:VTIMEZONE
TZID:Europe/Berlin
X-LIC-LOCATION:Europe/Berlin
BEGIN:DAYLIGHT
DTSTART:20260329T030000
TZOFFSETFROM:+0100
TZOFFSETTO:+0200
TZNAME:CEST
END:DAYLIGHT
BEGIN:STANDARD
DTSTART:20261025T020000
TZOFFSETFROM:+0200
TZOFFSETTO:+0100
TZNAME:CET
END:STANDARD
END:VTIMEZONE
END:VCALENDAR