BEGIN:VCALENDAR
VERSION:2.0
PRODID:-//wp-events-plugin.com//7.2.3.1//EN
TZID:Europe/Berlin
X-WR-TIMEZONE:Europe/Berlin
BEGIN:VEVENT
UID:44@dev.lg-suedeichsfeld.de
DTSTART;TZID=Europe/Berlin;VALUE=DATE:20260724
DTEND;TZID=Europe/Berlin;VALUE=DATE:20260728
DTSTAMP:20260127T092435Z
URL:https://dev.lg-suedeichsfeld.de/events/kirmes-in-katharinenberg/
SUMMARY:Kirmes in Katharinenberg
DESCRIPTION:
CATEGORIES:Katharinenberger Kirmesgesellschaft 1931 e.V.
LOCATION:Ortschaft\, Ortschaft\, Katharinenberg\, 99988\, Deutschland
X-APPLE-STRUCTURED-LOCATION;VALUE=URI;X-ADDRESS=Ortschaft\, Katharinenberg\
 , 99988\, Deutschland;X-APPLE-RADIUS=100;X-TITLE=Ortschaft:geo:0,0
END:VEVENT
BEGIN:VTIMEZONE
TZID:Europe/Berlin
X-LIC-LOCATION:Europe/Berlin
BEGIN:DAYLIGHT
DTSTART:20260329T030000
TZOFFSETFROM:+0100
TZOFFSETTO:+0200
TZNAME:CEST
END:DAYLIGHT
END:VTIMEZONE
END:VCALENDAR