BEGIN:VCALENDAR
VERSION:2.0
PRODID:-//wp-events-plugin.com//7.2.3.1//EN
TZID:Europe/Berlin
X-WR-TIMEZONE:Europe/Berlin
BEGIN:VEVENT
UID:30@dev.lg-suedeichsfeld.de
DTSTART;TZID=Europe/Berlin;VALUE=DATE:20260704
DTEND;TZID=Europe/Berlin;VALUE=DATE:20260706
DTSTAMP:20260122T130731Z
URL:https://dev.lg-suedeichsfeld.de/events/schuetzenfest/
SUMMARY:Schützenfest
DESCRIPTION:
CATEGORIES:Schützenverein 1871 Wendehausen e.V.
LOCATION:Schützenhaus\, Am Festplatz\, Wendehausen\, 99988\, Deutschland
X-APPLE-STRUCTURED-LOCATION;VALUE=URI;X-ADDRESS=Am Festplatz\, Wendehausen\
 , 99988\, Deutschland;X-APPLE-RADIUS=100;X-TITLE=Schützenhaus:geo:0,0
END:VEVENT
BEGIN:VTIMEZONE
TZID:Europe/Berlin
X-LIC-LOCATION:Europe/Berlin
BEGIN:DAYLIGHT
DTSTART:20260329T030000
TZOFFSETFROM:+0100
TZOFFSETTO:+0200
TZNAME:CEST
END:DAYLIGHT
END:VTIMEZONE
END:VCALENDAR