BEGIN:VCALENDAR
VERSION:2.0
PRODID:-//wp-events-plugin.com//7.2.3.1//EN
TZID:Europe/Berlin
X-WR-TIMEZONE:Europe/Berlin
BEGIN:VEVENT
UID:28@dev.lg-suedeichsfeld.de
DTSTART;TZID=Europe/Berlin:20260816T143000
DTEND;TZID=Europe/Berlin:20260816T143000
DTSTAMP:20260122T125021Z
URL:https://dev.lg-suedeichsfeld.de/events/sommerliche-kraeuterschaetze-ge
 fuehrte-wanderung-mit-naturparkfuehrerin-susanne-merten/
SUMMARY:„Sommerliche Kräuterschätze“ – geführte Wanderung mit Natu
 rparkführerin Susanne Merten
DESCRIPTION:
CATEGORIES:Alter Bahnhof Heyerode
LOCATION:Alter Bahnhof\, Bahnhofstraße 69\, Heyerode\, 99988\, Deutschland
X-APPLE-STRUCTURED-LOCATION;VALUE=URI;X-ADDRESS=Bahnhofstraße 69\, Heyerod
 e\, 99988\, Deutschland;X-APPLE-RADIUS=100;X-TITLE=Alter Bahnhof:geo:0,0
END:VEVENT
BEGIN:VTIMEZONE
TZID:Europe/Berlin
X-LIC-LOCATION:Europe/Berlin
BEGIN:DAYLIGHT
DTSTART:20260329T030000
TZOFFSETFROM:+0100
TZOFFSETTO:+0200
TZNAME:CEST
END:DAYLIGHT
END:VTIMEZONE
END:VCALENDAR