BEGIN:VCALENDAR
VERSION:2.0
PRODID:-//wp-events-plugin.com//7.2.3.1//EN
TZID:Europe/Berlin
X-WR-TIMEZONE:Europe/Berlin
BEGIN:VEVENT
UID:43@dev.lg-suedeichsfeld.de
DTSTART;TZID=Europe/Berlin;VALUE=DATE:20260627
DTEND;TZID=Europe/Berlin;VALUE=DATE:20260628
DTSTAMP:20260127T081847Z
URL:https://dev.lg-suedeichsfeld.de/events/suedeichsfeldlauf-volleyballtur
 nier/
SUMMARY:Südeichsfeldlauf & Volleyballturnier
DESCRIPTION:
LOCATION:Sportplatz\, Katharinenberger Str. 2\, Diedorf\, 99988\, Deutschla
 nd
X-APPLE-STRUCTURED-LOCATION;VALUE=URI;X-ADDRESS=Katharinenberger Str. 2\, D
 iedorf\, 99988\, Deutschland;X-APPLE-RADIUS=100;X-TITLE=Sportplatz:geo:0,0
END:VEVENT
BEGIN:VTIMEZONE
TZID:Europe/Berlin
X-LIC-LOCATION:Europe/Berlin
BEGIN:DAYLIGHT
DTSTART:20260329T030000
TZOFFSETFROM:+0100
TZOFFSETTO:+0200
TZNAME:CEST
END:DAYLIGHT
END:VTIMEZONE
END:VCALENDAR