BEGIN:VCALENDAR
VERSION:2.0
PRODID:-//wp-events-plugin.com//7.2.3.1//EN
TZID:Europe/Berlin
X-WR-TIMEZONE:Europe/Berlin
BEGIN:VEVENT
UID:47@dev.lg-suedeichsfeld.de
DTSTART;TZID=Europe/Berlin:20260905T070000
DTEND;TZID=Europe/Berlin:20260905T070000
DTSTAMP:20260127T091930Z
URL:https://dev.lg-suedeichsfeld.de/events/wandern-mit-freunden-wandermara
 thon/
SUMMARY:Wandern mit Freunden - Wandermarathon
DESCRIPTION:
CATEGORIES:Heimatalm
LOCATION:Heimatalm\, Am Grenzblick\, Katharinenberg\, 99988\, Deutschland
X-APPLE-STRUCTURED-LOCATION;VALUE=URI;X-ADDRESS=Am Grenzblick\, Katharinenb
 erg\, 99988\, Deutschland;X-APPLE-RADIUS=100;X-TITLE=Heimatalm:geo:0,0
END:VEVENT
BEGIN:VTIMEZONE
TZID:Europe/Berlin
X-LIC-LOCATION:Europe/Berlin
BEGIN:DAYLIGHT
DTSTART:20260329T030000
TZOFFSETFROM:+0100
TZOFFSETTO:+0200
TZNAME:CEST
END:DAYLIGHT
END:VTIMEZONE
END:VCALENDAR