BEGIN:VCALENDAR
VERSION:2.0
PRODID:-//wp-events-plugin.com//7.2.3.1//EN
TZID:Europe/Berlin
X-WR-TIMEZONE:Europe/Berlin
BEGIN:VEVENT
UID:61@dev.lg-suedeichsfeld.de
DTSTART;TZID=Europe/Berlin;VALUE=DATE:20261219
DTEND;TZID=Europe/Berlin;VALUE=DATE:20261221
DTSTAMP:20260127T093951Z
URL:https://dev.lg-suedeichsfeld.de/events/weihnachtsmarkt-diedorf-2/
SUMMARY:Weihnachtsmarkt Diedorf
DESCRIPTION:
CATEGORIES:Ortschaftsrat Diedorf
LOCATION:Anger\, Hauptstraße 3\, Diedorf\, 99988\, Deutschland
X-APPLE-STRUCTURED-LOCATION;VALUE=URI;X-ADDRESS=Hauptstraße 3\, Diedorf\, 
 99988\, Deutschland;X-APPLE-RADIUS=100;X-TITLE=Anger:geo:0,0
END:VEVENT
BEGIN:VTIMEZONE
TZID:Europe/Berlin
X-LIC-LOCATION:Europe/Berlin
BEGIN:STANDARD
DTSTART:20261025T020000
TZOFFSETFROM:+0200
TZOFFSETTO:+0100
TZNAME:CET
END:STANDARD
END:VTIMEZONE
END:VCALENDAR